BEGIN:VCALENDAR
PRODID:http://wibix.de/infusions/pro_download_panel/download.php?did=27
VERSION:2.0
METHOD:PUBLISH
BEGIN:VEVENT
DTSTART:20100622T230000Z
UID:87@https://mzsp.pl/
DTSTAMP:20100621T042915Z
DESCRIPTION:Dzień Ojca
SUMMARY:Dzień Ojca
CLASS:PUBLIC
RRULE:FREQ=YEARLY;INTERVAL=1
END:VEVENT
END:VCALENDAR
